BEGIN:VCALENDAR
VERSION:2.0
PRODID:-//Paramount Baptist Church - ECPv6.15.17//NONSGML v1.0//EN
CALSCALE:GREGORIAN
METHOD:PUBLISH
X-ORIGINAL-URL:https://paramountbaptist.com
X-WR-CALDESC:Events for Paramount Baptist Church
REFRESH-INTERVAL;VALUE=DURATION:PT1H
X-Robots-Tag:noindex
X-PUBLISHED-TTL:PT1H
BEGIN:VTIMEZONE
TZID:America/New_York
BEGIN:DAYLIGHT
TZOFFSETFROM:-0500
TZOFFSETTO:-0400
TZNAME:EDT
DTSTART:20280312T070000
END:DAYLIGHT
BEGIN:STANDARD
TZOFFSETFROM:-0400
TZOFFSETTO:-0500
TZNAME:EST
DTSTART:20281105T060000
END:STANDARD
BEGIN:DAYLIGHT
TZOFFSETFROM:-0500
TZOFFSETTO:-0400
TZNAME:EDT
DTSTART:20290311T070000
END:DAYLIGHT
BEGIN:STANDARD
TZOFFSETFROM:-0400
TZOFFSETTO:-0500
TZNAME:EST
DTSTART:20291104T060000
END:STANDARD
BEGIN:DAYLIGHT
TZOFFSETFROM:-0500
TZOFFSETTO:-0400
TZNAME:EDT
DTSTART:20300310T070000
END:DAYLIGHT
BEGIN:STANDARD
TZOFFSETFROM:-0400
TZOFFSETTO:-0500
TZNAME:EST
DTSTART:20301103T060000
END:STANDARD
BEGIN:DAYLIGHT
TZOFFSETFROM:-0500
TZOFFSETTO:-0400
TZNAME:EDT
DTSTART:20310309T070000
END:DAYLIGHT
BEGIN:STANDARD
TZOFFSETFROM:-0400
TZOFFSETTO:-0500
TZNAME:EST
DTSTART:20311102T060000
END:STANDARD
END:VTIMEZONE
BEGIN:VEVENT
DTSTART;TZID=America/New_York:20291212T090000
DTEND;TZID=America/New_York:20291212T110000
DTSTAMP:20260425T201624
CREATED:20230124T201630Z
LAST-MODIFIED:20260109T142415Z
UID:10008072-1891760400-1891767600@paramountbaptist.com
SUMMARY:Women in Action
DESCRIPTION:
URL:https://paramountbaptist.com/event/women-in-action-2/2029-12-12/
END:VEVENT
BEGIN:VEVENT
DTSTART;TZID=America/New_York:20291212T183000
DTEND;TZID=America/New_York:20291212T193000
DTSTAMP:20260425T201624
CREATED:20240702T180525Z
LAST-MODIFIED:20260331T052937Z
UID:10007884-1891794600-1891798200@paramountbaptist.com
SUMMARY:Youth Group
DESCRIPTION:Our Youth Group\, PBC 412\, exists to REACH non-believing students for Christ\, INTRODUCE them to other Christians\, SHOW them how to be the hands and feet of Jesus\, and EQUIP them for worship. \nCome join us every Wednesday night as we play games\, eat some junk food\, and most importantly\, learn about God’s Word. \nFor grades 7-12.
URL:https://paramountbaptist.com/event/youth-group-3/2029-12-12/
END:VEVENT
BEGIN:VEVENT
DTSTART;TZID=America/New_York:20291212T183000
DTEND;TZID=America/New_York:20291212T194500
DTSTAMP:20260425T201624
CREATED:20240702T183631Z
LAST-MODIFIED:20260331T052320Z
UID:10007908-1891794600-1891799100@paramountbaptist.com
SUMMARY:Adult Prayer and Bible Study
DESCRIPTION:
URL:https://paramountbaptist.com/event/adult-prayer-and-bible-study-3/2029-12-12/
END:VEVENT
BEGIN:VEVENT
DTSTART;TZID=America/New_York:20291216T081500
DTEND;TZID=America/New_York:20291216T093000
DTSTAMP:20260425T201624
CREATED:20230124T182058Z
LAST-MODIFIED:20260217T182555Z
UID:10008016-1892103300-1892107800@paramountbaptist.com
SUMMARY:Worship Service
DESCRIPTION:
URL:https://paramountbaptist.com/event/worship-service/2029-12-16/
END:VEVENT
BEGIN:VEVENT
DTSTART;TZID=America/New_York:20291216T110000
DTEND;TZID=America/New_York:20291216T121500
DTSTAMP:20260425T201624
CREATED:20230124T193036Z
LAST-MODIFIED:20260217T182337Z
UID:10007967-1892113200-1892117700@paramountbaptist.com
SUMMARY:Worship Service
DESCRIPTION:
URL:https://paramountbaptist.com/event/worship-service-2/2029-12-16/
END:VEVENT
BEGIN:VEVENT
DTSTART;TZID=America/New_York:20291217T180000
DTEND;TZID=America/New_York:20291217T191500
DTSTAMP:20260425T201624
CREATED:20250314T155533Z
LAST-MODIFIED:20250428T133729Z
UID:10007787-1892224800-1892229300@paramountbaptist.com
SUMMARY:G.R.O.W. - O Team
DESCRIPTION:
URL:https://paramountbaptist.com/event/g-r-o-w-o-team/2029-12-17/
END:VEVENT
BEGIN:VEVENT
DTSTART;TZID=America/New_York:20291218T183000
DTEND;TZID=America/New_York:20291218T200000
DTSTAMP:20260425T201624
CREATED:20230124T194500Z
LAST-MODIFIED:20250428T133841Z
UID:10007814-1892313000-1892318400@paramountbaptist.com
SUMMARY:Worship Team
DESCRIPTION:
URL:https://paramountbaptist.com/event/worship-team/2029-12-18/
END:VEVENT
BEGIN:VEVENT
DTSTART;TZID=America/New_York:20291218T190000
DTEND;TZID=America/New_York:20291218T203000
DTSTAMP:20260425T201624
CREATED:20230919T122148Z
LAST-MODIFIED:20250512T130245Z
UID:10007839-1892314800-1892320200@paramountbaptist.com
SUMMARY:Trustees Meeting
DESCRIPTION:
URL:https://paramountbaptist.com/event/trustees-meeting/2029-12-18/
END:VEVENT
BEGIN:VEVENT
DTSTART;TZID=America/New_York:20291219T090000
DTEND;TZID=America/New_York:20291219T110000
DTSTAMP:20260425T201624
CREATED:20230124T201630Z
LAST-MODIFIED:20260109T142415Z
UID:10008073-1892365200-1892372400@paramountbaptist.com
SUMMARY:Women in Action
DESCRIPTION:
URL:https://paramountbaptist.com/event/women-in-action-2/2029-12-19/
END:VEVENT
BEGIN:VEVENT
DTSTART;TZID=America/New_York:20291219T183000
DTEND;TZID=America/New_York:20291219T193000
DTSTAMP:20260425T201624
CREATED:20240702T180525Z
LAST-MODIFIED:20260331T052937Z
UID:10007885-1892399400-1892403000@paramountbaptist.com
SUMMARY:Youth Group
DESCRIPTION:Our Youth Group\, PBC 412\, exists to REACH non-believing students for Christ\, INTRODUCE them to other Christians\, SHOW them how to be the hands and feet of Jesus\, and EQUIP them for worship. \nCome join us every Wednesday night as we play games\, eat some junk food\, and most importantly\, learn about God’s Word. \nFor grades 7-12.
URL:https://paramountbaptist.com/event/youth-group-3/2029-12-19/
END:VEVENT
BEGIN:VEVENT
DTSTART;TZID=America/New_York:20291219T183000
DTEND;TZID=America/New_York:20291219T194500
DTSTAMP:20260425T201624
CREATED:20240702T183631Z
LAST-MODIFIED:20260331T052320Z
UID:10007909-1892399400-1892403900@paramountbaptist.com
SUMMARY:Adult Prayer and Bible Study
DESCRIPTION:
URL:https://paramountbaptist.com/event/adult-prayer-and-bible-study-3/2029-12-19/
END:VEVENT
BEGIN:VEVENT
DTSTART;TZID=America/New_York:20291223T081500
DTEND;TZID=America/New_York:20291223T093000
DTSTAMP:20260425T201624
CREATED:20230124T182058Z
LAST-MODIFIED:20260217T182555Z
UID:10008017-1892708100-1892712600@paramountbaptist.com
SUMMARY:Worship Service
DESCRIPTION:
URL:https://paramountbaptist.com/event/worship-service/2029-12-23/
END:VEVENT
BEGIN:VEVENT
DTSTART;TZID=America/New_York:20291223T110000
DTEND;TZID=America/New_York:20291223T121500
DTSTAMP:20260425T201624
CREATED:20230124T193036Z
LAST-MODIFIED:20260217T182337Z
UID:10007968-1892718000-1892722500@paramountbaptist.com
SUMMARY:Worship Service
DESCRIPTION:
URL:https://paramountbaptist.com/event/worship-service-2/2029-12-23/
END:VEVENT
BEGIN:VEVENT
DTSTART;TZID=America/New_York:20291225T183000
DTEND;TZID=America/New_York:20291225T200000
DTSTAMP:20260425T201624
CREATED:20230124T194500Z
LAST-MODIFIED:20250428T133841Z
UID:10007815-1892917800-1892923200@paramountbaptist.com
SUMMARY:Worship Team
DESCRIPTION:
URL:https://paramountbaptist.com/event/worship-team/2029-12-25/
END:VEVENT
BEGIN:VEVENT
DTSTART;TZID=America/New_York:20291226T090000
DTEND;TZID=America/New_York:20291226T110000
DTSTAMP:20260425T201624
CREATED:20230124T201630Z
LAST-MODIFIED:20260109T142415Z
UID:10008074-1892970000-1892977200@paramountbaptist.com
SUMMARY:Women in Action
DESCRIPTION:
URL:https://paramountbaptist.com/event/women-in-action-2/2029-12-26/
END:VEVENT
BEGIN:VEVENT
DTSTART;TZID=America/New_York:20291226T183000
DTEND;TZID=America/New_York:20291226T193000
DTSTAMP:20260425T201624
CREATED:20240702T180525Z
LAST-MODIFIED:20260331T052937Z
UID:10007886-1893004200-1893007800@paramountbaptist.com
SUMMARY:Youth Group
DESCRIPTION:Our Youth Group\, PBC 412\, exists to REACH non-believing students for Christ\, INTRODUCE them to other Christians\, SHOW them how to be the hands and feet of Jesus\, and EQUIP them for worship. \nCome join us every Wednesday night as we play games\, eat some junk food\, and most importantly\, learn about God’s Word. \nFor grades 7-12.
URL:https://paramountbaptist.com/event/youth-group-3/2029-12-26/
END:VEVENT
BEGIN:VEVENT
DTSTART;TZID=America/New_York:20291226T183000
DTEND;TZID=America/New_York:20291226T194500
DTSTAMP:20260425T201624
CREATED:20240702T183631Z
LAST-MODIFIED:20260331T052320Z
UID:10007910-1893004200-1893008700@paramountbaptist.com
SUMMARY:Adult Prayer and Bible Study
DESCRIPTION:
URL:https://paramountbaptist.com/event/adult-prayer-and-bible-study-3/2029-12-26/
END:VEVENT
BEGIN:VEVENT
DTSTART;TZID=America/New_York:20291230T081500
DTEND;TZID=America/New_York:20291230T093000
DTSTAMP:20260425T201624
CREATED:20230124T182058Z
LAST-MODIFIED:20260217T182555Z
UID:10008018-1893312900-1893317400@paramountbaptist.com
SUMMARY:Worship Service
DESCRIPTION:
URL:https://paramountbaptist.com/event/worship-service/2029-12-30/
END:VEVENT
BEGIN:VEVENT
DTSTART;TZID=America/New_York:20291230T110000
DTEND;TZID=America/New_York:20291230T121500
DTSTAMP:20260425T201624
CREATED:20230124T193036Z
LAST-MODIFIED:20260217T182337Z
UID:10007969-1893322800-1893327300@paramountbaptist.com
SUMMARY:Worship Service
DESCRIPTION:
URL:https://paramountbaptist.com/event/worship-service-2/2029-12-30/
END:VEVENT
BEGIN:VEVENT
DTSTART;TZID=America/New_York:20300101T183000
DTEND;TZID=America/New_York:20300101T200000
DTSTAMP:20260425T201624
CREATED:20230124T194500Z
LAST-MODIFIED:20250428T133841Z
UID:10007816-1893522600-1893528000@paramountbaptist.com
SUMMARY:Worship Team
DESCRIPTION:
URL:https://paramountbaptist.com/event/worship-team/2030-01-01/
END:VEVENT
BEGIN:VEVENT
DTSTART;TZID=America/New_York:20300102T090000
DTEND;TZID=America/New_York:20300102T110000
DTSTAMP:20260425T201624
CREATED:20230124T201630Z
LAST-MODIFIED:20260109T142415Z
UID:10008075-1893574800-1893582000@paramountbaptist.com
SUMMARY:Women in Action
DESCRIPTION:
URL:https://paramountbaptist.com/event/women-in-action-2/2030-01-02/
END:VEVENT
BEGIN:VEVENT
DTSTART;TZID=America/New_York:20300102T183000
DTEND;TZID=America/New_York:20300102T193000
DTSTAMP:20260425T201624
CREATED:20240702T180525Z
LAST-MODIFIED:20260331T052937Z
UID:10007887-1893609000-1893612600@paramountbaptist.com
SUMMARY:Youth Group
DESCRIPTION:Our Youth Group\, PBC 412\, exists to REACH non-believing students for Christ\, INTRODUCE them to other Christians\, SHOW them how to be the hands and feet of Jesus\, and EQUIP them for worship. \nCome join us every Wednesday night as we play games\, eat some junk food\, and most importantly\, learn about God’s Word. \nFor grades 7-12.
URL:https://paramountbaptist.com/event/youth-group-3/2030-01-02/
END:VEVENT
BEGIN:VEVENT
DTSTART;TZID=America/New_York:20300102T183000
DTEND;TZID=America/New_York:20300102T194500
DTSTAMP:20260425T201624
CREATED:20240702T183631Z
LAST-MODIFIED:20260331T052320Z
UID:10007911-1893609000-1893613500@paramountbaptist.com
SUMMARY:Adult Prayer and Bible Study
DESCRIPTION:
URL:https://paramountbaptist.com/event/adult-prayer-and-bible-study-3/2030-01-02/
END:VEVENT
BEGIN:VEVENT
DTSTART;TZID=America/New_York:20300106T081500
DTEND;TZID=America/New_York:20300106T093000
DTSTAMP:20260425T201624
CREATED:20230124T182058Z
LAST-MODIFIED:20260217T182555Z
UID:10008019-1893917700-1893922200@paramountbaptist.com
SUMMARY:Worship Service
DESCRIPTION:
URL:https://paramountbaptist.com/event/worship-service/2030-01-06/
END:VEVENT
BEGIN:VEVENT
DTSTART;TZID=America/New_York:20300106T110000
DTEND;TZID=America/New_York:20300106T121500
DTSTAMP:20260425T201624
CREATED:20230124T193036Z
LAST-MODIFIED:20260217T182337Z
UID:10007970-1893927600-1893932100@paramountbaptist.com
SUMMARY:Worship Service
DESCRIPTION:
URL:https://paramountbaptist.com/event/worship-service-2/2030-01-06/
END:VEVENT
BEGIN:VEVENT
DTSTART;TZID=America/New_York:20300107T180000
DTEND;TZID=America/New_York:20300107T191500
DTSTAMP:20260425T201624
CREATED:20250314T155126Z
LAST-MODIFIED:20260109T142149Z
UID:10007728-1894039200-1894043700@paramountbaptist.com
SUMMARY:G.R.O.W. - G Team
DESCRIPTION:
URL:https://paramountbaptist.com/event/g-r-o-w-g-team/2030-01-07/
END:VEVENT
BEGIN:VEVENT
DTSTART;TZID=America/New_York:20300108T183000
DTEND;TZID=America/New_York:20300108T200000
DTSTAMP:20260425T201624
CREATED:20230124T194500Z
LAST-MODIFIED:20250428T133841Z
UID:10007817-1894127400-1894132800@paramountbaptist.com
SUMMARY:Worship Team
DESCRIPTION:
URL:https://paramountbaptist.com/event/worship-team/2030-01-08/
END:VEVENT
BEGIN:VEVENT
DTSTART;TZID=America/New_York:20300109T090000
DTEND;TZID=America/New_York:20300109T110000
DTSTAMP:20260425T201624
CREATED:20230124T201630Z
LAST-MODIFIED:20260109T142415Z
UID:10008076-1894179600-1894186800@paramountbaptist.com
SUMMARY:Women in Action
DESCRIPTION:
URL:https://paramountbaptist.com/event/women-in-action-2/2030-01-09/
END:VEVENT
BEGIN:VEVENT
DTSTART;TZID=America/New_York:20300109T183000
DTEND;TZID=America/New_York:20300109T193000
DTSTAMP:20260425T201624
CREATED:20240702T180525Z
LAST-MODIFIED:20260331T052937Z
UID:10007888-1894213800-1894217400@paramountbaptist.com
SUMMARY:Youth Group
DESCRIPTION:Our Youth Group\, PBC 412\, exists to REACH non-believing students for Christ\, INTRODUCE them to other Christians\, SHOW them how to be the hands and feet of Jesus\, and EQUIP them for worship. \nCome join us every Wednesday night as we play games\, eat some junk food\, and most importantly\, learn about God’s Word. \nFor grades 7-12.
URL:https://paramountbaptist.com/event/youth-group-3/2030-01-09/
END:VEVENT
BEGIN:VEVENT
DTSTART;TZID=America/New_York:20300109T183000
DTEND;TZID=America/New_York:20300109T194500
DTSTAMP:20260425T201624
CREATED:20240702T183631Z
LAST-MODIFIED:20260331T052320Z
UID:10007912-1894213800-1894218300@paramountbaptist.com
SUMMARY:Adult Prayer and Bible Study
DESCRIPTION:
URL:https://paramountbaptist.com/event/adult-prayer-and-bible-study-3/2030-01-09/
END:VEVENT
END:VCALENDAR