BEGIN:VCALENDAR
VERSION:2.0
PRODID:-//Paramount Baptist Church - ECPv6.15.17//NONSGML v1.0//EN
CALSCALE:GREGORIAN
METHOD:PUBLISH
X-ORIGINAL-URL:https://paramountbaptist.com
X-WR-CALDESC:Events for Paramount Baptist Church
REFRESH-INTERVAL;VALUE=DURATION:PT1H
X-Robots-Tag:noindex
X-PUBLISHED-TTL:PT1H
BEGIN:VTIMEZONE
TZID:America/New_York
BEGIN:DAYLIGHT
TZOFFSETFROM:-0500
TZOFFSETTO:-0400
TZNAME:EDT
DTSTART:20280312T070000
END:DAYLIGHT
BEGIN:STANDARD
TZOFFSETFROM:-0400
TZOFFSETTO:-0500
TZNAME:EST
DTSTART:20281105T060000
END:STANDARD
BEGIN:DAYLIGHT
TZOFFSETFROM:-0500
TZOFFSETTO:-0400
TZNAME:EDT
DTSTART:20290311T070000
END:DAYLIGHT
BEGIN:STANDARD
TZOFFSETFROM:-0400
TZOFFSETTO:-0500
TZNAME:EST
DTSTART:20291104T060000
END:STANDARD
BEGIN:DAYLIGHT
TZOFFSETFROM:-0500
TZOFFSETTO:-0400
TZNAME:EDT
DTSTART:20300310T070000
END:DAYLIGHT
BEGIN:STANDARD
TZOFFSETFROM:-0400
TZOFFSETTO:-0500
TZNAME:EST
DTSTART:20301103T060000
END:STANDARD
END:VTIMEZONE
BEGIN:VEVENT
DTSTART;TZID=America/New_York:20290912T183000
DTEND;TZID=America/New_York:20290912T193000
DTSTAMP:20260422T184904
CREATED:20240702T180525Z
LAST-MODIFIED:20260331T052937Z
UID:10007401-1883932200-1883935800@paramountbaptist.com
SUMMARY:Youth Group
DESCRIPTION:Our Youth Group\, PBC 412\, exists to REACH non-believing students for Christ\, INTRODUCE them to other Christians\, SHOW them how to be the hands and feet of Jesus\, and EQUIP them for worship. \nCome join us every Wednesday night as we play games\, eat some junk food\, and most importantly\, learn about God’s Word. \nFor grades 7-12.
URL:https://paramountbaptist.com/event/youth-group-3/2029-09-12/
END:VEVENT
BEGIN:VEVENT
DTSTART;TZID=America/New_York:20290912T183000
DTEND;TZID=America/New_York:20290912T194500
DTSTAMP:20260422T184904
CREATED:20240702T183631Z
LAST-MODIFIED:20260331T052320Z
UID:10007390-1883932200-1883936700@paramountbaptist.com
SUMMARY:Adult Prayer and Bible Study
DESCRIPTION:
URL:https://paramountbaptist.com/event/adult-prayer-and-bible-study-3/2029-09-12/
END:VEVENT
BEGIN:VEVENT
DTSTART;TZID=America/New_York:20290916T081500
DTEND;TZID=America/New_York:20290916T093000
DTSTAMP:20260422T184904
CREATED:20230124T182058Z
LAST-MODIFIED:20260217T182555Z
UID:10008003-1884240900-1884245400@paramountbaptist.com
SUMMARY:Worship Service
DESCRIPTION:
URL:https://paramountbaptist.com/event/worship-service/2029-09-16/
END:VEVENT
BEGIN:VEVENT
DTSTART;TZID=America/New_York:20290916T110000
DTEND;TZID=America/New_York:20290916T121500
DTSTAMP:20260422T184904
CREATED:20230124T193036Z
LAST-MODIFIED:20260217T182337Z
UID:10007954-1884250800-1884255300@paramountbaptist.com
SUMMARY:Worship Service
DESCRIPTION:
URL:https://paramountbaptist.com/event/worship-service-2/2029-09-16/
END:VEVENT
BEGIN:VEVENT
DTSTART;TZID=America/New_York:20290917T180000
DTEND;TZID=America/New_York:20290917T191500
DTSTAMP:20260422T184904
CREATED:20250314T155533Z
LAST-MODIFIED:20250428T133729Z
UID:10007784-1884362400-1884366900@paramountbaptist.com
SUMMARY:G.R.O.W. - O Team
DESCRIPTION:
URL:https://paramountbaptist.com/event/g-r-o-w-o-team/2029-09-17/
END:VEVENT
BEGIN:VEVENT
DTSTART;TZID=America/New_York:20290918T183000
DTEND;TZID=America/New_York:20290918T200000
DTSTAMP:20260422T184904
CREATED:20230124T194500Z
LAST-MODIFIED:20250428T133841Z
UID:10007441-1884450600-1884456000@paramountbaptist.com
SUMMARY:Worship Team
DESCRIPTION:
URL:https://paramountbaptist.com/event/worship-team/2029-09-18/
END:VEVENT
BEGIN:VEVENT
DTSTART;TZID=America/New_York:20290918T190000
DTEND;TZID=America/New_York:20290918T203000
DTSTAMP:20260422T184904
CREATED:20230919T122148Z
LAST-MODIFIED:20250512T130245Z
UID:10007836-1884452400-1884457800@paramountbaptist.com
SUMMARY:Trustees Meeting
DESCRIPTION:
URL:https://paramountbaptist.com/event/trustees-meeting/2029-09-18/
END:VEVENT
BEGIN:VEVENT
DTSTART;TZID=America/New_York:20290919T090000
DTEND;TZID=America/New_York:20290919T110000
DTSTAMP:20260422T184904
CREATED:20230124T201630Z
LAST-MODIFIED:20260109T142415Z
UID:10008060-1884502800-1884510000@paramountbaptist.com
SUMMARY:Women in Action
DESCRIPTION:
URL:https://paramountbaptist.com/event/women-in-action-2/2029-09-19/
END:VEVENT
BEGIN:VEVENT
DTSTART;TZID=America/New_York:20290919T183000
DTEND;TZID=America/New_York:20290919T193000
DTSTAMP:20260422T184904
CREATED:20240702T180525Z
LAST-MODIFIED:20260331T052937Z
UID:10007402-1884537000-1884540600@paramountbaptist.com
SUMMARY:Youth Group
DESCRIPTION:Our Youth Group\, PBC 412\, exists to REACH non-believing students for Christ\, INTRODUCE them to other Christians\, SHOW them how to be the hands and feet of Jesus\, and EQUIP them for worship. \nCome join us every Wednesday night as we play games\, eat some junk food\, and most importantly\, learn about God’s Word. \nFor grades 7-12.
URL:https://paramountbaptist.com/event/youth-group-3/2029-09-19/
END:VEVENT
BEGIN:VEVENT
DTSTART;TZID=America/New_York:20290919T183000
DTEND;TZID=America/New_York:20290919T194500
DTSTAMP:20260422T184904
CREATED:20240702T183631Z
LAST-MODIFIED:20260331T052320Z
UID:10007391-1884537000-1884541500@paramountbaptist.com
SUMMARY:Adult Prayer and Bible Study
DESCRIPTION:
URL:https://paramountbaptist.com/event/adult-prayer-and-bible-study-3/2029-09-19/
END:VEVENT
BEGIN:VEVENT
DTSTART;TZID=America/New_York:20290923T081500
DTEND;TZID=America/New_York:20290923T093000
DTSTAMP:20260422T184904
CREATED:20230124T182058Z
LAST-MODIFIED:20260217T182555Z
UID:10008004-1884845700-1884850200@paramountbaptist.com
SUMMARY:Worship Service
DESCRIPTION:
URL:https://paramountbaptist.com/event/worship-service/2029-09-23/
END:VEVENT
BEGIN:VEVENT
DTSTART;TZID=America/New_York:20290923T110000
DTEND;TZID=America/New_York:20290923T121500
DTSTAMP:20260422T184904
CREATED:20230124T193036Z
LAST-MODIFIED:20260217T182337Z
UID:10007955-1884855600-1884860100@paramountbaptist.com
SUMMARY:Worship Service
DESCRIPTION:
URL:https://paramountbaptist.com/event/worship-service-2/2029-09-23/
END:VEVENT
BEGIN:VEVENT
DTSTART;TZID=America/New_York:20290925T183000
DTEND;TZID=America/New_York:20290925T200000
DTSTAMP:20260422T184904
CREATED:20230124T194500Z
LAST-MODIFIED:20250428T133841Z
UID:10007442-1885055400-1885060800@paramountbaptist.com
SUMMARY:Worship Team
DESCRIPTION:
URL:https://paramountbaptist.com/event/worship-team/2029-09-25/
END:VEVENT
BEGIN:VEVENT
DTSTART;TZID=America/New_York:20290926T090000
DTEND;TZID=America/New_York:20290926T110000
DTSTAMP:20260422T184904
CREATED:20230124T201630Z
LAST-MODIFIED:20260109T142415Z
UID:10008061-1885107600-1885114800@paramountbaptist.com
SUMMARY:Women in Action
DESCRIPTION:
URL:https://paramountbaptist.com/event/women-in-action-2/2029-09-26/
END:VEVENT
BEGIN:VEVENT
DTSTART;TZID=America/New_York:20290926T183000
DTEND;TZID=America/New_York:20290926T193000
DTSTAMP:20260422T184904
CREATED:20240702T180525Z
LAST-MODIFIED:20260331T052937Z
UID:10007403-1885141800-1885145400@paramountbaptist.com
SUMMARY:Youth Group
DESCRIPTION:Our Youth Group\, PBC 412\, exists to REACH non-believing students for Christ\, INTRODUCE them to other Christians\, SHOW them how to be the hands and feet of Jesus\, and EQUIP them for worship. \nCome join us every Wednesday night as we play games\, eat some junk food\, and most importantly\, learn about God’s Word. \nFor grades 7-12.
URL:https://paramountbaptist.com/event/youth-group-3/2029-09-26/
END:VEVENT
BEGIN:VEVENT
DTSTART;TZID=America/New_York:20290926T183000
DTEND;TZID=America/New_York:20290926T194500
DTSTAMP:20260422T184904
CREATED:20240702T183631Z
LAST-MODIFIED:20260331T052320Z
UID:10007392-1885141800-1885146300@paramountbaptist.com
SUMMARY:Adult Prayer and Bible Study
DESCRIPTION:
URL:https://paramountbaptist.com/event/adult-prayer-and-bible-study-3/2029-09-26/
END:VEVENT
BEGIN:VEVENT
DTSTART;TZID=America/New_York:20290930T081500
DTEND;TZID=America/New_York:20290930T093000
DTSTAMP:20260422T184904
CREATED:20230124T182058Z
LAST-MODIFIED:20260217T182555Z
UID:10008005-1885450500-1885455000@paramountbaptist.com
SUMMARY:Worship Service
DESCRIPTION:
URL:https://paramountbaptist.com/event/worship-service/2029-09-30/
END:VEVENT
BEGIN:VEVENT
DTSTART;TZID=America/New_York:20290930T110000
DTEND;TZID=America/New_York:20290930T121500
DTSTAMP:20260422T184904
CREATED:20230124T193036Z
LAST-MODIFIED:20260217T182337Z
UID:10007956-1885460400-1885464900@paramountbaptist.com
SUMMARY:Worship Service
DESCRIPTION:
URL:https://paramountbaptist.com/event/worship-service-2/2029-09-30/
END:VEVENT
BEGIN:VEVENT
DTSTART;TZID=America/New_York:20291001T180000
DTEND;TZID=America/New_York:20291001T191500
DTSTAMP:20260422T184904
CREATED:20250314T155126Z
LAST-MODIFIED:20260109T142149Z
UID:10007725-1885572000-1885576500@paramountbaptist.com
SUMMARY:G.R.O.W. - G Team
DESCRIPTION:
URL:https://paramountbaptist.com/event/g-r-o-w-g-team/2029-10-01/
END:VEVENT
BEGIN:VEVENT
DTSTART;TZID=America/New_York:20291002T183000
DTEND;TZID=America/New_York:20291002T200000
DTSTAMP:20260422T184904
CREATED:20230124T194500Z
LAST-MODIFIED:20250428T133841Z
UID:10007443-1885660200-1885665600@paramountbaptist.com
SUMMARY:Worship Team
DESCRIPTION:
URL:https://paramountbaptist.com/event/worship-team/2029-10-02/
END:VEVENT
BEGIN:VEVENT
DTSTART;TZID=America/New_York:20291003T090000
DTEND;TZID=America/New_York:20291003T110000
DTSTAMP:20260422T184904
CREATED:20230124T201630Z
LAST-MODIFIED:20260109T142415Z
UID:10008062-1885712400-1885719600@paramountbaptist.com
SUMMARY:Women in Action
DESCRIPTION:
URL:https://paramountbaptist.com/event/women-in-action-2/2029-10-03/
END:VEVENT
BEGIN:VEVENT
DTSTART;TZID=America/New_York:20291003T173000
DTEND;TZID=America/New_York:20291003T183000
DTSTAMP:20260422T184904
CREATED:20230124T201752Z
LAST-MODIFIED:20241107T170658Z
UID:10007471-1885743000-1885746600@paramountbaptist.com
SUMMARY:Outreach Team Meeting
DESCRIPTION:
URL:https://paramountbaptist.com/event/outreach-team-meeting/2029-10-03/
END:VEVENT
BEGIN:VEVENT
DTSTART;TZID=America/New_York:20291003T183000
DTEND;TZID=America/New_York:20291003T193000
DTSTAMP:20260422T184904
CREATED:20240702T180525Z
LAST-MODIFIED:20260331T052937Z
UID:10007404-1885746600-1885750200@paramountbaptist.com
SUMMARY:Youth Group
DESCRIPTION:Our Youth Group\, PBC 412\, exists to REACH non-believing students for Christ\, INTRODUCE them to other Christians\, SHOW them how to be the hands and feet of Jesus\, and EQUIP them for worship. \nCome join us every Wednesday night as we play games\, eat some junk food\, and most importantly\, learn about God’s Word. \nFor grades 7-12.
URL:https://paramountbaptist.com/event/youth-group-3/2029-10-03/
END:VEVENT
BEGIN:VEVENT
DTSTART;TZID=America/New_York:20291003T183000
DTEND;TZID=America/New_York:20291003T194500
DTSTAMP:20260422T184904
CREATED:20240702T183631Z
LAST-MODIFIED:20260331T052320Z
UID:10007393-1885746600-1885751100@paramountbaptist.com
SUMMARY:Adult Prayer and Bible Study
DESCRIPTION:
URL:https://paramountbaptist.com/event/adult-prayer-and-bible-study-3/2029-10-03/
END:VEVENT
BEGIN:VEVENT
DTSTART;TZID=America/New_York:20291007T081500
DTEND;TZID=America/New_York:20291007T093000
DTSTAMP:20260422T184904
CREATED:20230124T182058Z
LAST-MODIFIED:20260217T182555Z
UID:10008006-1886055300-1886059800@paramountbaptist.com
SUMMARY:Worship Service
DESCRIPTION:
URL:https://paramountbaptist.com/event/worship-service/2029-10-07/
END:VEVENT
BEGIN:VEVENT
DTSTART;TZID=America/New_York:20291007T110000
DTEND;TZID=America/New_York:20291007T121500
DTSTAMP:20260422T184904
CREATED:20230124T193036Z
LAST-MODIFIED:20260217T182337Z
UID:10007957-1886065200-1886069700@paramountbaptist.com
SUMMARY:Worship Service
DESCRIPTION:
URL:https://paramountbaptist.com/event/worship-service-2/2029-10-07/
END:VEVENT
BEGIN:VEVENT
DTSTART;TZID=America/New_York:20291009T183000
DTEND;TZID=America/New_York:20291009T200000
DTSTAMP:20260422T184904
CREATED:20230124T194500Z
LAST-MODIFIED:20250428T133841Z
UID:10007444-1886265000-1886270400@paramountbaptist.com
SUMMARY:Worship Team
DESCRIPTION:
URL:https://paramountbaptist.com/event/worship-team/2029-10-09/
END:VEVENT
BEGIN:VEVENT
DTSTART;TZID=America/New_York:20291010T090000
DTEND;TZID=America/New_York:20291010T110000
DTSTAMP:20260422T184904
CREATED:20230124T201630Z
LAST-MODIFIED:20260109T142415Z
UID:10008063-1886317200-1886324400@paramountbaptist.com
SUMMARY:Women in Action
DESCRIPTION:
URL:https://paramountbaptist.com/event/women-in-action-2/2029-10-10/
END:VEVENT
BEGIN:VEVENT
DTSTART;TZID=America/New_York:20291010T183000
DTEND;TZID=America/New_York:20291010T193000
DTSTAMP:20260422T184904
CREATED:20240702T180525Z
LAST-MODIFIED:20260331T052937Z
UID:10007405-1886351400-1886355000@paramountbaptist.com
SUMMARY:Youth Group
DESCRIPTION:Our Youth Group\, PBC 412\, exists to REACH non-believing students for Christ\, INTRODUCE them to other Christians\, SHOW them how to be the hands and feet of Jesus\, and EQUIP them for worship. \nCome join us every Wednesday night as we play games\, eat some junk food\, and most importantly\, learn about God’s Word. \nFor grades 7-12.
URL:https://paramountbaptist.com/event/youth-group-3/2029-10-10/
END:VEVENT
BEGIN:VEVENT
DTSTART;TZID=America/New_York:20291010T183000
DTEND;TZID=America/New_York:20291010T194500
DTSTAMP:20260422T184904
CREATED:20240702T183631Z
LAST-MODIFIED:20260331T052320Z
UID:10007394-1886351400-1886355900@paramountbaptist.com
SUMMARY:Adult Prayer and Bible Study
DESCRIPTION:
URL:https://paramountbaptist.com/event/adult-prayer-and-bible-study-3/2029-10-10/
END:VEVENT
END:VCALENDAR