BEGIN:VCALENDAR
VERSION:2.0
PRODID:-//Paramount Baptist Church - ECPv6.15.17//NONSGML v1.0//EN
CALSCALE:GREGORIAN
METHOD:PUBLISH
X-ORIGINAL-URL:https://paramountbaptist.com
X-WR-CALDESC:Events for Paramount Baptist Church
REFRESH-INTERVAL;VALUE=DURATION:PT1H
X-Robots-Tag:noindex
X-PUBLISHED-TTL:PT1H
BEGIN:VTIMEZONE
TZID:America/New_York
BEGIN:DAYLIGHT
TZOFFSETFROM:-0500
TZOFFSETTO:-0400
TZNAME:EDT
DTSTART:20280312T070000
END:DAYLIGHT
BEGIN:STANDARD
TZOFFSETFROM:-0400
TZOFFSETTO:-0500
TZNAME:EST
DTSTART:20281105T060000
END:STANDARD
BEGIN:DAYLIGHT
TZOFFSETFROM:-0500
TZOFFSETTO:-0400
TZNAME:EDT
DTSTART:20290311T070000
END:DAYLIGHT
BEGIN:STANDARD
TZOFFSETFROM:-0400
TZOFFSETTO:-0500
TZNAME:EST
DTSTART:20291104T060000
END:STANDARD
BEGIN:DAYLIGHT
TZOFFSETFROM:-0500
TZOFFSETTO:-0400
TZNAME:EDT
DTSTART:20300310T070000
END:DAYLIGHT
BEGIN:STANDARD
TZOFFSETFROM:-0400
TZOFFSETTO:-0500
TZNAME:EST
DTSTART:20301103T060000
END:STANDARD
END:VTIMEZONE
BEGIN:VEVENT
DTSTART;TZID=America/New_York:20290702T180000
DTEND;TZID=America/New_York:20290702T191500
DTSTAMP:20260421T063844
CREATED:20250314T155126Z
LAST-MODIFIED:20260109T142149Z
UID:10007722-1877709600-1877714100@paramountbaptist.com
SUMMARY:G.R.O.W. - G Team
DESCRIPTION:
URL:https://paramountbaptist.com/event/g-r-o-w-g-team/2029-07-02/
END:VEVENT
BEGIN:VEVENT
DTSTART;TZID=America/New_York:20290703T183000
DTEND;TZID=America/New_York:20290703T200000
DTSTAMP:20260421T063844
CREATED:20230124T194500Z
LAST-MODIFIED:20250428T133841Z
UID:10007430-1877797800-1877803200@paramountbaptist.com
SUMMARY:Worship Team
DESCRIPTION:
URL:https://paramountbaptist.com/event/worship-team/2029-07-03/
END:VEVENT
BEGIN:VEVENT
DTSTART;TZID=America/New_York:20290704T090000
DTEND;TZID=America/New_York:20290704T110000
DTSTAMP:20260421T063844
CREATED:20230124T201630Z
LAST-MODIFIED:20260109T142415Z
UID:10007288-1877850000-1877857200@paramountbaptist.com
SUMMARY:Women in Action
DESCRIPTION:
URL:https://paramountbaptist.com/event/women-in-action-2/2029-07-04/
END:VEVENT
BEGIN:VEVENT
DTSTART;TZID=America/New_York:20290704T173000
DTEND;TZID=America/New_York:20290704T183000
DTSTAMP:20260421T063844
CREATED:20230124T201752Z
LAST-MODIFIED:20241107T170658Z
UID:10007468-1877880600-1877884200@paramountbaptist.com
SUMMARY:Outreach Team Meeting
DESCRIPTION:
URL:https://paramountbaptist.com/event/outreach-team-meeting/2029-07-04/
END:VEVENT
BEGIN:VEVENT
DTSTART;TZID=America/New_York:20290704T183000
DTEND;TZID=America/New_York:20290704T193000
DTSTAMP:20260421T063844
CREATED:20240702T180525Z
LAST-MODIFIED:20260331T052937Z
UID:10007296-1877884200-1877887800@paramountbaptist.com
SUMMARY:Youth Group
DESCRIPTION:Our Youth Group\, PBC 412\, exists to REACH non-believing students for Christ\, INTRODUCE them to other Christians\, SHOW them how to be the hands and feet of Jesus\, and EQUIP them for worship. \nCome join us every Wednesday night as we play games\, eat some junk food\, and most importantly\, learn about God’s Word. \nFor grades 7-12.
URL:https://paramountbaptist.com/event/youth-group-3/2029-07-04/
END:VEVENT
BEGIN:VEVENT
DTSTART;TZID=America/New_York:20290704T183000
DTEND;TZID=America/New_York:20290704T194500
DTSTAMP:20260421T063844
CREATED:20240702T183631Z
LAST-MODIFIED:20260331T052320Z
UID:10007304-1877884200-1877888700@paramountbaptist.com
SUMMARY:Adult Prayer and Bible Study
DESCRIPTION:
URL:https://paramountbaptist.com/event/adult-prayer-and-bible-study-3/2029-07-04/
END:VEVENT
BEGIN:VEVENT
DTSTART;TZID=America/New_York:20290708T081500
DTEND;TZID=America/New_York:20290708T093000
DTSTAMP:20260421T063844
CREATED:20230124T182058Z
LAST-MODIFIED:20260217T182555Z
UID:10007993-1878192900-1878197400@paramountbaptist.com
SUMMARY:Worship Service
DESCRIPTION:
URL:https://paramountbaptist.com/event/worship-service/2029-07-08/
END:VEVENT
BEGIN:VEVENT
DTSTART;TZID=America/New_York:20290708T110000
DTEND;TZID=America/New_York:20290708T121500
DTSTAMP:20260421T063844
CREATED:20230124T193036Z
LAST-MODIFIED:20260217T182337Z
UID:10007944-1878202800-1878207300@paramountbaptist.com
SUMMARY:Worship Service
DESCRIPTION:
URL:https://paramountbaptist.com/event/worship-service-2/2029-07-08/
END:VEVENT
BEGIN:VEVENT
DTSTART;TZID=America/New_York:20290710T183000
DTEND;TZID=America/New_York:20290710T200000
DTSTAMP:20260421T063844
CREATED:20230124T194500Z
LAST-MODIFIED:20250428T133841Z
UID:10007431-1878402600-1878408000@paramountbaptist.com
SUMMARY:Worship Team
DESCRIPTION:
URL:https://paramountbaptist.com/event/worship-team/2029-07-10/
END:VEVENT
BEGIN:VEVENT
DTSTART;TZID=America/New_York:20290711T090000
DTEND;TZID=America/New_York:20290711T110000
DTSTAMP:20260421T063844
CREATED:20230124T201630Z
LAST-MODIFIED:20260109T142415Z
UID:10007289-1878454800-1878462000@paramountbaptist.com
SUMMARY:Women in Action
DESCRIPTION:
URL:https://paramountbaptist.com/event/women-in-action-2/2029-07-11/
END:VEVENT
BEGIN:VEVENT
DTSTART;TZID=America/New_York:20290711T183000
DTEND;TZID=America/New_York:20290711T193000
DTSTAMP:20260421T063844
CREATED:20240702T180525Z
LAST-MODIFIED:20260331T052937Z
UID:10007297-1878489000-1878492600@paramountbaptist.com
SUMMARY:Youth Group
DESCRIPTION:Our Youth Group\, PBC 412\, exists to REACH non-believing students for Christ\, INTRODUCE them to other Christians\, SHOW them how to be the hands and feet of Jesus\, and EQUIP them for worship. \nCome join us every Wednesday night as we play games\, eat some junk food\, and most importantly\, learn about God’s Word. \nFor grades 7-12.
URL:https://paramountbaptist.com/event/youth-group-3/2029-07-11/
END:VEVENT
BEGIN:VEVENT
DTSTART;TZID=America/New_York:20290711T183000
DTEND;TZID=America/New_York:20290711T194500
DTSTAMP:20260421T063844
CREATED:20240702T183631Z
LAST-MODIFIED:20260331T052320Z
UID:10007305-1878489000-1878493500@paramountbaptist.com
SUMMARY:Adult Prayer and Bible Study
DESCRIPTION:
URL:https://paramountbaptist.com/event/adult-prayer-and-bible-study-3/2029-07-11/
END:VEVENT
BEGIN:VEVENT
DTSTART;TZID=America/New_York:20290714T083000
DTEND;TZID=America/New_York:20290714T093000
DTSTAMP:20260421T063844
CREATED:20230124T195504Z
LAST-MODIFIED:20260120T173535Z
UID:10007271-1878712200-1878715800@paramountbaptist.com
SUMMARY:Men's Breakfast
DESCRIPTION:A time of hearty food and great fellowship.  All men are welcome! \n  \n 
URL:https://paramountbaptist.com/event/mens-breakfast/2029-07-14/
CATEGORIES:Men
END:VEVENT
BEGIN:VEVENT
DTSTART;TZID=America/New_York:20290715T081500
DTEND;TZID=America/New_York:20290715T093000
DTSTAMP:20260421T063844
CREATED:20230124T182058Z
LAST-MODIFIED:20260217T182555Z
UID:10007994-1878797700-1878802200@paramountbaptist.com
SUMMARY:Worship Service
DESCRIPTION:
URL:https://paramountbaptist.com/event/worship-service/2029-07-15/
END:VEVENT
BEGIN:VEVENT
DTSTART;TZID=America/New_York:20290715T110000
DTEND;TZID=America/New_York:20290715T121500
DTSTAMP:20260421T063844
CREATED:20230124T193036Z
LAST-MODIFIED:20260217T182337Z
UID:10007945-1878807600-1878812100@paramountbaptist.com
SUMMARY:Worship Service
DESCRIPTION:
URL:https://paramountbaptist.com/event/worship-service-2/2029-07-15/
END:VEVENT
BEGIN:VEVENT
DTSTART;TZID=America/New_York:20290716T180000
DTEND;TZID=America/New_York:20290716T191500
DTSTAMP:20260421T063844
CREATED:20250314T155533Z
LAST-MODIFIED:20250428T133729Z
UID:10007782-1878919200-1878923700@paramountbaptist.com
SUMMARY:G.R.O.W. - O Team
DESCRIPTION:
URL:https://paramountbaptist.com/event/g-r-o-w-o-team/2029-07-16/
END:VEVENT
BEGIN:VEVENT
DTSTART;TZID=America/New_York:20290717T183000
DTEND;TZID=America/New_York:20290717T200000
DTSTAMP:20260421T063844
CREATED:20230124T194500Z
LAST-MODIFIED:20250428T133841Z
UID:10007432-1879007400-1879012800@paramountbaptist.com
SUMMARY:Worship Team
DESCRIPTION:
URL:https://paramountbaptist.com/event/worship-team/2029-07-17/
END:VEVENT
BEGIN:VEVENT
DTSTART;TZID=America/New_York:20290717T190000
DTEND;TZID=America/New_York:20290717T203000
DTSTAMP:20260421T063844
CREATED:20230919T122148Z
LAST-MODIFIED:20250512T130245Z
UID:10007834-1879009200-1879014600@paramountbaptist.com
SUMMARY:Trustees Meeting
DESCRIPTION:
URL:https://paramountbaptist.com/event/trustees-meeting/2029-07-17/
END:VEVENT
BEGIN:VEVENT
DTSTART;TZID=America/New_York:20290718T090000
DTEND;TZID=America/New_York:20290718T110000
DTSTAMP:20260421T063844
CREATED:20230124T201630Z
LAST-MODIFIED:20260109T142415Z
UID:10007290-1879059600-1879066800@paramountbaptist.com
SUMMARY:Women in Action
DESCRIPTION:
URL:https://paramountbaptist.com/event/women-in-action-2/2029-07-18/
END:VEVENT
BEGIN:VEVENT
DTSTART;TZID=America/New_York:20290718T183000
DTEND;TZID=America/New_York:20290718T193000
DTSTAMP:20260421T063844
CREATED:20240702T180525Z
LAST-MODIFIED:20260331T052937Z
UID:10007298-1879093800-1879097400@paramountbaptist.com
SUMMARY:Youth Group
DESCRIPTION:Our Youth Group\, PBC 412\, exists to REACH non-believing students for Christ\, INTRODUCE them to other Christians\, SHOW them how to be the hands and feet of Jesus\, and EQUIP them for worship. \nCome join us every Wednesday night as we play games\, eat some junk food\, and most importantly\, learn about God’s Word. \nFor grades 7-12.
URL:https://paramountbaptist.com/event/youth-group-3/2029-07-18/
END:VEVENT
BEGIN:VEVENT
DTSTART;TZID=America/New_York:20290718T183000
DTEND;TZID=America/New_York:20290718T194500
DTSTAMP:20260421T063844
CREATED:20240702T183631Z
LAST-MODIFIED:20260331T052320Z
UID:10007306-1879093800-1879098300@paramountbaptist.com
SUMMARY:Adult Prayer and Bible Study
DESCRIPTION:
URL:https://paramountbaptist.com/event/adult-prayer-and-bible-study-3/2029-07-18/
END:VEVENT
BEGIN:VEVENT
DTSTART;TZID=America/New_York:20290722T081500
DTEND;TZID=America/New_York:20290722T093000
DTSTAMP:20260421T063844
CREATED:20230124T182058Z
LAST-MODIFIED:20260217T182555Z
UID:10007995-1879402500-1879407000@paramountbaptist.com
SUMMARY:Worship Service
DESCRIPTION:
URL:https://paramountbaptist.com/event/worship-service/2029-07-22/
END:VEVENT
BEGIN:VEVENT
DTSTART;TZID=America/New_York:20290722T110000
DTEND;TZID=America/New_York:20290722T121500
DTSTAMP:20260421T063844
CREATED:20230124T193036Z
LAST-MODIFIED:20260217T182337Z
UID:10007946-1879412400-1879416900@paramountbaptist.com
SUMMARY:Worship Service
DESCRIPTION:
URL:https://paramountbaptist.com/event/worship-service-2/2029-07-22/
END:VEVENT
BEGIN:VEVENT
DTSTART;TZID=America/New_York:20290724T183000
DTEND;TZID=America/New_York:20290724T200000
DTSTAMP:20260421T063844
CREATED:20230124T194500Z
LAST-MODIFIED:20250428T133841Z
UID:10007433-1879612200-1879617600@paramountbaptist.com
SUMMARY:Worship Team
DESCRIPTION:
URL:https://paramountbaptist.com/event/worship-team/2029-07-24/
END:VEVENT
BEGIN:VEVENT
DTSTART;TZID=America/New_York:20290725T090000
DTEND;TZID=America/New_York:20290725T110000
DTSTAMP:20260421T063844
CREATED:20230124T201630Z
LAST-MODIFIED:20260109T142415Z
UID:10007291-1879664400-1879671600@paramountbaptist.com
SUMMARY:Women in Action
DESCRIPTION:
URL:https://paramountbaptist.com/event/women-in-action-2/2029-07-25/
END:VEVENT
BEGIN:VEVENT
DTSTART;TZID=America/New_York:20290725T183000
DTEND;TZID=America/New_York:20290725T193000
DTSTAMP:20260421T063844
CREATED:20240702T180525Z
LAST-MODIFIED:20260331T052937Z
UID:10007299-1879698600-1879702200@paramountbaptist.com
SUMMARY:Youth Group
DESCRIPTION:Our Youth Group\, PBC 412\, exists to REACH non-believing students for Christ\, INTRODUCE them to other Christians\, SHOW them how to be the hands and feet of Jesus\, and EQUIP them for worship. \nCome join us every Wednesday night as we play games\, eat some junk food\, and most importantly\, learn about God’s Word. \nFor grades 7-12.
URL:https://paramountbaptist.com/event/youth-group-3/2029-07-25/
END:VEVENT
BEGIN:VEVENT
DTSTART;TZID=America/New_York:20290725T183000
DTEND;TZID=America/New_York:20290725T194500
DTSTAMP:20260421T063844
CREATED:20240702T183631Z
LAST-MODIFIED:20260331T052320Z
UID:10007307-1879698600-1879703100@paramountbaptist.com
SUMMARY:Adult Prayer and Bible Study
DESCRIPTION:
URL:https://paramountbaptist.com/event/adult-prayer-and-bible-study-3/2029-07-25/
END:VEVENT
BEGIN:VEVENT
DTSTART;TZID=America/New_York:20290729T081500
DTEND;TZID=America/New_York:20290729T093000
DTSTAMP:20260421T063844
CREATED:20230124T182058Z
LAST-MODIFIED:20260217T182555Z
UID:10007996-1880007300-1880011800@paramountbaptist.com
SUMMARY:Worship Service
DESCRIPTION:
URL:https://paramountbaptist.com/event/worship-service/2029-07-29/
END:VEVENT
BEGIN:VEVENT
DTSTART;TZID=America/New_York:20290729T110000
DTEND;TZID=America/New_York:20290729T121500
DTSTAMP:20260421T063844
CREATED:20230124T193036Z
LAST-MODIFIED:20260217T182337Z
UID:10007947-1880017200-1880021700@paramountbaptist.com
SUMMARY:Worship Service
DESCRIPTION:
URL:https://paramountbaptist.com/event/worship-service-2/2029-07-29/
END:VEVENT
BEGIN:VEVENT
DTSTART;TZID=America/New_York:20290731T183000
DTEND;TZID=America/New_York:20290731T200000
DTSTAMP:20260421T063844
CREATED:20230124T194500Z
LAST-MODIFIED:20250428T133841Z
UID:10007434-1880217000-1880222400@paramountbaptist.com
SUMMARY:Worship Team
DESCRIPTION:
URL:https://paramountbaptist.com/event/worship-team/2029-07-31/
END:VEVENT
END:VCALENDAR