BEGIN:VCALENDAR
VERSION:2.0
PRODID:-//Paramount Baptist Church - ECPv6.15.17//NONSGML v1.0//EN
CALSCALE:GREGORIAN
METHOD:PUBLISH
X-ORIGINAL-URL:https://paramountbaptist.com
X-WR-CALDESC:Events for Paramount Baptist Church
REFRESH-INTERVAL;VALUE=DURATION:PT1H
X-Robots-Tag:noindex
X-PUBLISHED-TTL:PT1H
BEGIN:VTIMEZONE
TZID:America/New_York
BEGIN:DAYLIGHT
TZOFFSETFROM:-0500
TZOFFSETTO:-0400
TZNAME:EDT
DTSTART:20230312T070000
END:DAYLIGHT
BEGIN:STANDARD
TZOFFSETFROM:-0400
TZOFFSETTO:-0500
TZNAME:EST
DTSTART:20231105T060000
END:STANDARD
BEGIN:DAYLIGHT
TZOFFSETFROM:-0500
TZOFFSETTO:-0400
TZNAME:EDT
DTSTART:20240310T070000
END:DAYLIGHT
BEGIN:STANDARD
TZOFFSETFROM:-0400
TZOFFSETTO:-0500
TZNAME:EST
DTSTART:20241103T060000
END:STANDARD
BEGIN:DAYLIGHT
TZOFFSETFROM:-0500
TZOFFSETTO:-0400
TZNAME:EDT
DTSTART:20250309T070000
END:DAYLIGHT
BEGIN:STANDARD
TZOFFSETFROM:-0400
TZOFFSETTO:-0500
TZNAME:EST
DTSTART:20251102T060000
END:STANDARD
END:VTIMEZONE
BEGIN:VEVENT
DTSTART;VALUE=DATE:20241004
DTEND;VALUE=DATE:20241007
DTSTAMP:20260421T033400
CREATED:20240724T174745Z
LAST-MODIFIED:20240724T174745Z
UID:10004393-1728000000-1728259199@paramountbaptist.com
SUMMARY:Women's Retreat
DESCRIPTION:Women of PBC Retreat\n\n\n\n\n\n\n\n\n    Women of PBC Retreat\n        \n    \n    \n    \n    \n\n\n    First Name\n        *\n    \n    \n    \n    \n\n\n    Last name\n        *\n    \n    \n    \n    \n\n\n    Email\n        *\n    \n    \n    \n    \n\n\n    Phone\n        *\n    \n    \n    \n    \n\n\n    Transportation Options\n        *\n    \n    					\n					 I would like carpool information\n					\n					 I do not need carpool information\n\n    \n    \n\n\n	\n\nSubmit\n\n\n\n	\n			\n			\n				If you are human\, leave this field blank.
URL:https://paramountbaptist.com/event/womens-retreat-2/
END:VEVENT
BEGIN:VEVENT
DTSTART;TZID=America/New_York:20241006T081500
DTEND;TZID=America/New_York:20241006T093000
DTSTAMP:20260421T033400
CREATED:20230124T182058Z
LAST-MODIFIED:20260217T182555Z
UID:10000359-1728202500-1728207000@paramountbaptist.com
SUMMARY:Worship Service
DESCRIPTION:
URL:https://paramountbaptist.com/event/worship-service/2024-10-06/
END:VEVENT
BEGIN:VEVENT
DTSTART;TZID=America/New_York:20241006T094500
DTEND;TZID=America/New_York:20241006T104500
DTSTAMP:20260421T033400
CREATED:20230124T185027Z
LAST-MODIFIED:20240521T194649Z
UID:10000621-1728207900-1728211500@paramountbaptist.com
SUMMARY:Sunday School
DESCRIPTION:
URL:https://paramountbaptist.com/event/sunday-school/2024-10-06/
END:VEVENT
BEGIN:VEVENT
DTSTART;TZID=America/New_York:20241006T110000
DTEND;TZID=America/New_York:20241006T121500
DTSTAMP:20260421T033400
CREATED:20230124T185551Z
LAST-MODIFIED:20240521T195220Z
UID:10000883-1728212400-1728216900@paramountbaptist.com
SUMMARY:Livestream
DESCRIPTION:
URL:https://paramountbaptist.com/event/livestream/2024-10-06/
END:VEVENT
BEGIN:VEVENT
DTSTART;TZID=America/New_York:20241006T110000
DTEND;TZID=America/New_York:20241006T121500
DTSTAMP:20260421T033400
CREATED:20230124T193036Z
LAST-MODIFIED:20260217T182337Z
UID:10001145-1728212400-1728216900@paramountbaptist.com
SUMMARY:Worship Service
DESCRIPTION:
URL:https://paramountbaptist.com/event/worship-service-2/2024-10-06/
END:VEVENT
END:VCALENDAR