BEGIN:VCALENDAR
VERSION:2.0
PRODID:-//Paramount Baptist Church - ECPv6.15.17//NONSGML v1.0//EN
CALSCALE:GREGORIAN
METHOD:PUBLISH
X-WR-CALNAME:Paramount Baptist Church
X-ORIGINAL-URL:https://paramountbaptist.com
X-WR-CALDESC:Events for Paramount Baptist Church
REFRESH-INTERVAL;VALUE=DURATION:PT1H
X-Robots-Tag:noindex
X-PUBLISHED-TTL:PT1H
BEGIN:VTIMEZONE
TZID:America/New_York
BEGIN:DAYLIGHT
TZOFFSETFROM:-0500
TZOFFSETTO:-0400
TZNAME:EDT
DTSTART:20230312T070000
END:DAYLIGHT
BEGIN:STANDARD
TZOFFSETFROM:-0400
TZOFFSETTO:-0500
TZNAME:EST
DTSTART:20231105T060000
END:STANDARD
BEGIN:DAYLIGHT
TZOFFSETFROM:-0500
TZOFFSETTO:-0400
TZNAME:EDT
DTSTART:20240310T070000
END:DAYLIGHT
BEGIN:STANDARD
TZOFFSETFROM:-0400
TZOFFSETTO:-0500
TZNAME:EST
DTSTART:20241103T060000
END:STANDARD
BEGIN:DAYLIGHT
TZOFFSETFROM:-0500
TZOFFSETTO:-0400
TZNAME:EDT
DTSTART:20250309T070000
END:DAYLIGHT
BEGIN:STANDARD
TZOFFSETFROM:-0400
TZOFFSETTO:-0500
TZNAME:EST
DTSTART:20251102T060000
END:STANDARD
END:VTIMEZONE
BEGIN:VEVENT
DTSTART;TZID=America/New_York:20240619T181500
DTEND;TZID=America/New_York:20240619T204500
DTSTAMP:20260422T133538
CREATED:20240208T170942Z
LAST-MODIFIED:20240529T191934Z
UID:10005622-1718820900-1718829900@paramountbaptist.com
SUMMARY:Vacation Bible School
DESCRIPTION:Online registration is currently closed for submissions. You may register in person beginning at 5:30PM\, before the start of VBS.  Thank you and please join us!
URL:https://paramountbaptist.com/event/vacation-bible-school-2/2024-06-19/
END:VEVENT
BEGIN:VEVENT
DTSTART;TZID=America/New_York:20240619T183000
DTEND;TZID=America/New_York:20240619T193000
DTSTAMP:20260422T133538
CREATED:20230707T151614Z
LAST-MODIFIED:20250617T154333Z
UID:10008151-1718821800-1718825400@paramountbaptist.com
SUMMARY:PBC Kids Summer Edition
DESCRIPTION:
URL:https://paramountbaptist.com/event/pbc-kids-summer-edition/2024-06-19/
END:VEVENT
END:VCALENDAR