BEGIN:VCALENDAR
VERSION:2.0
PRODID:-//Paramount Baptist Church - ECPv6.15.17//NONSGML v1.0//EN
CALSCALE:GREGORIAN
METHOD:PUBLISH
X-ORIGINAL-URL:https://paramountbaptist.com
X-WR-CALDESC:Events for Paramount Baptist Church
REFRESH-INTERVAL;VALUE=DURATION:PT1H
X-Robots-Tag:noindex
X-PUBLISHED-TTL:PT1H
BEGIN:VTIMEZONE
TZID:America/New_York
BEGIN:DAYLIGHT
TZOFFSETFROM:-0500
TZOFFSETTO:-0400
TZNAME:EDT
DTSTART:20230312T070000
END:DAYLIGHT
BEGIN:STANDARD
TZOFFSETFROM:-0400
TZOFFSETTO:-0500
TZNAME:EST
DTSTART:20231105T060000
END:STANDARD
BEGIN:DAYLIGHT
TZOFFSETFROM:-0500
TZOFFSETTO:-0400
TZNAME:EDT
DTSTART:20240310T070000
END:DAYLIGHT
BEGIN:STANDARD
TZOFFSETFROM:-0400
TZOFFSETTO:-0500
TZNAME:EST
DTSTART:20241103T060000
END:STANDARD
BEGIN:DAYLIGHT
TZOFFSETFROM:-0500
TZOFFSETTO:-0400
TZNAME:EDT
DTSTART:20250309T070000
END:DAYLIGHT
BEGIN:STANDARD
TZOFFSETFROM:-0400
TZOFFSETTO:-0500
TZNAME:EST
DTSTART:20251102T060000
END:STANDARD
END:VTIMEZONE
BEGIN:VEVENT
DTSTART;TZID=America/New_York:20240605T090000
DTEND;TZID=America/New_York:20240605T110000
DTSTAMP:20260422T133534
CREATED:20230124T201630Z
LAST-MODIFIED:20260109T142415Z
UID:10001856-1717578000-1717585200@paramountbaptist.com
SUMMARY:Women in Action
DESCRIPTION:
URL:https://paramountbaptist.com/event/women-in-action-2/2024-06-05/
END:VEVENT
BEGIN:VEVENT
DTSTART;TZID=America/New_York:20240605T173000
DTEND;TZID=America/New_York:20240605T183000
DTSTAMP:20260422T133534
CREATED:20230124T201752Z
LAST-MODIFIED:20241107T170658Z
UID:10002063-1717608600-1717612200@paramountbaptist.com
SUMMARY:Outreach Team Meeting
DESCRIPTION:
URL:https://paramountbaptist.com/event/outreach-team-meeting/2024-06-05/
END:VEVENT
BEGIN:VEVENT
DTSTART;TZID=America/New_York:20240605T183000
DTEND;TZID=America/New_York:20240605T193000
DTSTAMP:20260422T133534
CREATED:20230707T151614Z
LAST-MODIFIED:20250617T154333Z
UID:10008149-1717612200-1717615800@paramountbaptist.com
SUMMARY:PBC Kids Summer Edition
DESCRIPTION:
URL:https://paramountbaptist.com/event/pbc-kids-summer-edition/2024-06-05/
END:VEVENT
BEGIN:VEVENT
DTSTART;TZID=America/New_York:20240605T183000
DTEND;TZID=America/New_York:20240605T194000
DTSTAMP:20260422T133534
CREATED:20230331T165221Z
LAST-MODIFIED:20250428T140630Z
UID:10003251-1717612200-1717616400@paramountbaptist.com
SUMMARY:Adult Prayer and Bible Study
DESCRIPTION:
URL:https://paramountbaptist.com/event/adult-prayer-and-bible-study/2024-06-05/
END:VEVENT
BEGIN:VEVENT
DTSTART;TZID=America/New_York:20240605T183000
DTEND;TZID=America/New_York:20240605T194500
DTSTAMP:20260422T133534
CREATED:20230124T204608Z
LAST-MODIFIED:20250428T140320Z
UID:10002445-1717612200-1717616700@paramountbaptist.com
SUMMARY:Youth Group
DESCRIPTION:Our Youth Group\, PBC 412\, exists to REACH non-believing students for Christ\, INTRODUCE them to other Christians\, SHOW them how to be the hands and feet of Jesus\, and EQUIP them for worship. \nCome join us every Wednesday night as we play games\, eat some junk food\, and most importantly\, learn about God’s Word. \nFor grades 7-12.
URL:https://paramountbaptist.com/event/youth-group/2024-06-05/
CATEGORIES:Youth
END:VEVENT
END:VCALENDAR