BEGIN:VCALENDAR
VERSION:2.0
PRODID:-//Paramount Baptist Church - ECPv6.15.17//NONSGML v1.0//EN
CALSCALE:GREGORIAN
METHOD:PUBLISH
X-WR-CALNAME:Paramount Baptist Church
X-ORIGINAL-URL:https://paramountbaptist.com
X-WR-CALDESC:Events for Paramount Baptist Church
REFRESH-INTERVAL;VALUE=DURATION:PT1H
X-Robots-Tag:noindex
X-PUBLISHED-TTL:PT1H
BEGIN:VTIMEZONE
TZID:America/New_York
BEGIN:DAYLIGHT
TZOFFSETFROM:-0500
TZOFFSETTO:-0400
TZNAME:EDT
DTSTART:20230312T070000
END:DAYLIGHT
BEGIN:STANDARD
TZOFFSETFROM:-0400
TZOFFSETTO:-0500
TZNAME:EST
DTSTART:20231105T060000
END:STANDARD
BEGIN:DAYLIGHT
TZOFFSETFROM:-0500
TZOFFSETTO:-0400
TZNAME:EDT
DTSTART:20240310T070000
END:DAYLIGHT
BEGIN:STANDARD
TZOFFSETFROM:-0400
TZOFFSETTO:-0500
TZNAME:EST
DTSTART:20241103T060000
END:STANDARD
BEGIN:DAYLIGHT
TZOFFSETFROM:-0500
TZOFFSETTO:-0400
TZNAME:EDT
DTSTART:20250309T070000
END:DAYLIGHT
BEGIN:STANDARD
TZOFFSETFROM:-0400
TZOFFSETTO:-0500
TZNAME:EST
DTSTART:20251102T060000
END:STANDARD
END:VTIMEZONE
BEGIN:VEVENT
DTSTART;TZID=America/New_York:20240504T100000
DTEND;TZID=America/New_York:20240504T100000
DTSTAMP:20260424T150307
CREATED:20240229T205732Z
LAST-MODIFIED:20240229T210634Z
UID:10006089-1714816800-1714816800@paramountbaptist.com
SUMMARY:Women's Sat AM Bible Study
DESCRIPTION:Women's Ministry - Saturday Morning Bible Study\n\n\n\n\n\n\n\n\n    \n        \n    \n    \n    \n    \n\n\n    Text\n        \n    \n    \n    \n    \n\n\n    Name\n        *\n    \n    \n    \n    \n\n\n    Email\n        *\n    \n    \n    \n    \n\n\n    Phone\n        *\n    \n    \n    \n    \n\n	\n			\n			\n				If you are human\, leave this field blank.			\n			\n		\n		\n\nSubmit
URL:https://paramountbaptist.com/event/womens-sat-am-bible-study/2024-05-04/
END:VEVENT
BEGIN:VEVENT
DTSTART;TZID=America/New_York:20240504T120000
DTEND;TZID=America/New_York:20240504T150000
DTSTAMP:20260424T150308
CREATED:20240429T141601Z
LAST-MODIFIED:20240501T131237Z
UID:10006096-1714824000-1714834800@paramountbaptist.com
SUMMARY:Youth Serving Event
DESCRIPTION:May 4\, Noon – 3:00 pm: Tacos and Landscaping Serving Event.  No registration required. \nArrive at PBC at Noon for tacos and then we will work around the church until 3pm.
URL:https://paramountbaptist.com/event/youth-serving-event-4/
CATEGORIES:Youth
END:VEVENT
END:VCALENDAR